BEGIN:VCALENDAR
VERSION:2.0
PRODID:-//The Classics Library - ECPv6.15.20//NONSGML v1.0//EN
CALSCALE:GREGORIAN
METHOD:PUBLISH
X-WR-CALNAME:The Classics Library
X-ORIGINAL-URL:https://www.theclassicslibrary.com
X-WR-CALDESC:Events for The Classics Library
REFRESH-INTERVAL;VALUE=DURATION:PT1H
X-Robots-Tag:noindex
X-PUBLISHED-TTL:PT1H
BEGIN:VTIMEZONE
TZID:Europe/London
BEGIN:DAYLIGHT
TZOFFSETFROM:+0000
TZOFFSETTO:+0100
TZNAME:BST
DTSTART:20230326T010000
END:DAYLIGHT
BEGIN:STANDARD
TZOFFSETFROM:+0100
TZOFFSETTO:+0000
TZNAME:GMT
DTSTART:20231029T010000
END:STANDARD
BEGIN:DAYLIGHT
TZOFFSETFROM:+0000
TZOFFSETTO:+0100
TZNAME:BST
DTSTART:20240331T010000
END:DAYLIGHT
BEGIN:STANDARD
TZOFFSETFROM:+0100
TZOFFSETTO:+0000
TZNAME:GMT
DTSTART:20241027T010000
END:STANDARD
BEGIN:DAYLIGHT
TZOFFSETFROM:+0000
TZOFFSETTO:+0100
TZNAME:BST
DTSTART:20250330T010000
END:DAYLIGHT
BEGIN:STANDARD
TZOFFSETFROM:+0100
TZOFFSETTO:+0000
TZNAME:GMT
DTSTART:20251026T010000
END:STANDARD
END:VTIMEZONE
BEGIN:VEVENT
DTSTART;VALUE=DATE:20240112
DTEND;VALUE=DATE:20240131
DTSTAMP:20260422T051232
CREATED:20231104T143249Z
LAST-MODIFIED:20231104T143310Z
UID:56448-1705017600-1706659199@www.theclassicslibrary.com
SUMMARY:ELEKTRA (Strauss') at the Royal Opera House
DESCRIPTION:Strauss’ thrilling and audacious adaptation of this Greek tragedy receives a new staging by the award-winning director Christof Loy with Nina Stemme in the title role\, conducted by Antonio Pappano. \n\n\n\nFURTHER DETAILS
URL:https://www.theclassicslibrary.com/event/elektra-strauss-at-the-royal-opera-house/
CATEGORIES:events
ATTACH;FMTTYPE=image/jpeg:https://www.theclassicslibrary.com/wp-content/uploads/2023/11/strauss-elektra.jpg
END:VEVENT
BEGIN:VEVENT
DTSTART;TZID=Europe/London:20240118T190000
DTEND;TZID=Europe/London:20240118T200000
DTSTAMP:20260422T051232
CREATED:20230729T145610Z
LAST-MODIFIED:20230729T145610Z
UID:55874-1705604400-1705608000@www.theclassicslibrary.com
SUMMARY:Title of Lecture to be Confirmed
DESCRIPTION:Title of Lecture to be Confirmed.\n\n\n\nhttps://lsaclassics.com/current-programme/
URL:https://www.theclassicslibrary.com/event/title-of-lecture-to-be-confirmed/
LOCATION:AKS\, Clifton Drive South\, Lytham\, Sta Anne's\, Lancashire\, FY8 1DT\, United Kingdom
CATEGORIES:events
ATTACH;FMTTYPE=image/jpeg:https://www.theclassicslibrary.com/wp-content/uploads/2023/07/LSA-CA-DRAFT-Lecture-Programme-2023-241024_1.jpg
END:VEVENT
BEGIN:VEVENT
DTSTART;VALUE=DATE:20240120
DTEND;VALUE=DATE:20240121
DTSTAMP:20260422T051232
CREATED:20240112T142742Z
LAST-MODIFIED:20240112T142742Z
UID:56811-1705708800-1705795199@www.theclassicslibrary.com
SUMMARY:Wild Visions\, Untamed Myth
DESCRIPTION:Double bill of Greek Myth touring Jan-Mar (suitable for 14yrs+)\n\n \n\nPlunge into the wild world of the goddess Artemis. Then meet Kassandra\, blessed with the power to see the future\, cursed with never being believed\n\n \n\nStorytellers: Katy Cawkwell & Lucy Lill More details: www.wildvisions.org\n\n \n\n \n\n \n\n \n\nVenues: Dorset Rural Touring\, Sheffield\, Poole\, Cambridge\, Richmond (N. Yorks)\, Newcastle\, Bath\, Leicester\, Liverpool\, Leeds\, Oxford\, Havant\, nr Bristol\n\n \n\nSponsored by Elanthy extra-virgin olive oil from Greece\n\n \n\nAlso schools performances part-funded by the Hellenic Society. Contact katycawkwell@gmail.com for more details
URL:https://www.theclassicslibrary.com/event/wild-visions-untamed-myth/
LOCATION:Winterborne Stickland Pamela Hambro Hall\, Dorset\, DT11 0NT\, United Kingdom
CATEGORIES:events
ATTACH;FMTTYPE=image/jpeg:https://www.theclassicslibrary.com/wp-content/uploads/2024/01/WV_1920x1005-1.jpg
END:VEVENT
BEGIN:VEVENT
DTSTART;VALUE=DATE:20240120
DTEND;VALUE=DATE:20240317
DTSTAMP:20260422T051232
CREATED:20231114T142942Z
LAST-MODIFIED:20231205T141559Z
UID:56524-1705708800-1710633599@www.theclassicslibrary.com
SUMMARY:Virgil Society Schools Day
DESCRIPTION:Saturday 20th January 2024 Room G22/26 \, South Block\, Senate House\, Malet Street\, London \n\n\n\n11:00 a.m.  Welcome (Alice Bolland\, South Hampstead High School) \n\n\n\n\n\n11:15 a.m.  GCSE Latin \n\n\n\nDr Jean-Michel Hulls (Dulwich College) \n\n\n\n‘Learning about the Roman (under)world with Aeneas’\n\n\n\nThe GCSE prescription of Aeneid 6 is (unavoidably) selective\, leaving out more of Virgil’s complex underworld narrative than it includes. By looking at the text in the round\, we can see that the experience was equally tricky for Virgil’s contemporary audience\, and for Aeneas himself. Unpicking some of the hero’s confusion can help us understand the history\, philosophy and literature behind Book 6. \n\n\n\n\n\n2:15 p.m.  A-level Classical Civilisation (“The World of the Hero”) \n\n\n\nDr Niki Karapanagioti (Oxford High School GDST) \n\n\n\n‘Women in Homer and Virgil: Symbols of a hero’s achievements or co-heroes?’\n\n\n\nThe talk is going to focus on mortal women in Homer’s Iliad and Odyssey and in Virgil’s Aeneid. It will discuss the mortal women’s appearance in the narrative as victims of men’s pursuit of glory\, fame and honour. But it is also going to try and identify places in all three epics where women are presented in a more positive light\, taking on traits associated with the role of a hero. \n\n\n\n\n\n3:00 p.m.   A-level Latin \n\n\n\nDr Luke Houghton (Queen’s College London / UCL\, Royal Holloway) \n\n\n\n‘Character\, rhetoric\, and description in Aeneid 12’\n\n\n\nHow do you end a story with a predetermined outcome? How can you create tension and hold readers’ attention and interest when significant elements in your plotline have already been infallibly foretold earlier in the narrative? Through close reading of the text of Aeneid 12\, this talk illustrates some of the ways in which Virgil attempts to ensure that his readers remain invested in his characters and their fate even as the overarching course of Roman destiny works itself out over the final book of the poem. \n\n\n\nAttendees are welcome to attend any or all of the talks. Lunch will not be provided\, but light refreshments (tea\, coffee\, biscuits) will be available. The event is free to attend\, but we would be grateful if you could let us know if you and/or your students intend to join us\, so that we have a rough idea of numbers\, by emailing Alice Bolland (alicebolland296@gmail.com) or Luke Houghton (lbthoughton@hotmail.com) before 31st December 2023.
URL:https://www.theclassicslibrary.com/event/virgil-society-schools-day/
LOCATION:Senate House\, Malet Street\, London\, WC1E 7HU\, United Kingdom
CATEGORIES:events
ATTACH;FMTTYPE=image/png:https://www.theclassicslibrary.com/wp-content/uploads/2023/11/virgil-society.png
END:VEVENT
BEGIN:VEVENT
DTSTART;VALUE=DATE:20240121
DTEND;VALUE=DATE:20240122
DTSTAMP:20260422T051232
CREATED:20240112T143054Z
LAST-MODIFIED:20240112T143054Z
UID:56816-1705795200-1705881599@www.theclassicslibrary.com
SUMMARY:Wild Visions\, Untamed Myth
DESCRIPTION:Double bill of Greek Myth touring Jan-Mar (suitable for 14yrs+)\n\n \n\nPlunge into the wild world of the goddess Artemis. Then meet Kassandra\, blessed with the power to see the future\, cursed with never being believed\n\n \n\nStorytellers: Katy Cawkwell & Lucy Lill More details: www.wildvisions.org\n\n \n\n \n\n \n\n \n\nVenues: Dorset Rural Touring\, Sheffield\, Poole\, Cambridge\, Richmond (N. Yorks)\, Newcastle\, Bath\, Leicester\, Liverpool\, Leeds\, Oxford\, Havant\, nr Bristol\n\n \n\nSponsored by Elanthy extra-virgin olive oil from Greece\n\n \n\nAlso schools performances part-funded by the Hellenic Society. Contact katycawkwell@gmail.com for more details
URL:https://www.theclassicslibrary.com/event/wild-visions-untamed-myth-2/
LOCATION:Cerne Abbas Village Hall\, Dorset\, DT2 7GY\, United Kingdom
CATEGORIES:events
ATTACH;FMTTYPE=image/jpeg:https://www.theclassicslibrary.com/wp-content/uploads/2024/01/WV_1920x1005-1.jpg
END:VEVENT
BEGIN:VEVENT
DTSTART;VALUE=DATE:20240125
DTEND;VALUE=DATE:20240127
DTSTAMP:20260422T051232
CREATED:20230919T151342Z
LAST-MODIFIED:20230919T151342Z
UID:56151-1706140800-1706313599@www.theclassicslibrary.com
SUMMARY:Warwick Ancient Drama Festival 2024: Aeschylus' The Persians
DESCRIPTION:WARWICK\nANCIENT DRAMA FESTIVAL\n  \n\nAeschylus The Persians\n25-26 JANUARY 2024\n  \n\nGenerously funded by the British Academy\n \n\nWe are pleased to announce that the Warwick Ancient Drama Festival will return in January 2024. After Sophocles’ Oedipus Rex in 2020\, Euripides’ Bacchae in 2022\, and Aristophanes’ Assemblywomen in 2023\, this year will see Aeschylus’ Warwick debut. The Department of Classics and Ancient History would like to invite students and teachers to enjoy a performance of *The Persians*\, the earliest surviving Greek tragedy and the only one to draw its plot from historical events\, together with assorted talks and lectures from scholars of Greek drama.\n\n \n\nThe festival will take place on the 25th and the 26th January 2024\, with the 26th January specifically dedicated to schools. The play itself\, presented in the newly-renovated theatre of the Warwick Arts Centre\, will be directed and produced by the Classics students at Warwick – follow them at https://www.instagram.com/warwickclassicsplay/?hl=en.\n\n \n\nThere will be three performances: one on Thursday 25th January\, at 7.00pm\, and two on Friday 26th January (3.30pm\, 7.00pm). The performance on Thursday 25th January will be preceded (at 6.00pm) by a public lecture given by Dr Emmanuela Bakola\, titled ‘Watching Aeschylus’ Persians in performance’. Tickets for individual bookings for the Thursday and the Friday evening performances are priced at £6\, and are available for booking  https://www.warwickartscentre.co.uk/whats-on/3yj-aeschylus-the-persians/\n\n \n\nSupporting the matinee performance on Friday 26th (3.30pm)\, the Department is offering a series of lectures\, discussions\, and seminars specifically for school students\, and designed to link in with Greek\, Classical Civilisation\, Ancient History\, Drama\, and English syllabuses at GCSE and A-Level. However\, no previous knowledge of the play or subject area will be expected.\n\n \n\nAll participants will be able to attend two introductory 20-minute lectures in the morning (11.00):\n\n \n\n 	Dr Emmanuela Bakola\, ’Introduction to Greek theatre and festivals’\n \n 	Dr Paul Grigsby\, ‘The historical context of Aeschylus’ Persians’\n\n \n\nThese will be followed by a selection of talks running simultaneously\, and repeated in two sessions (12.15-13.00 and 14.00-14.45):\n\n \n\n 	Dr Xavier Buxton\, ‘Fear and the feminine in Aeschylus’ Persians’\n \n 	Professor David Fearn\, ‘How do we talk about the imagery of Aeschylus?’ (seminar)\n \n 	Dr Emmanuela Bakola ‘Watching Aeschylus’ Persians in performance’\n\n \n\nThe matinee performance is at 15.30. This will be followed (at around 17.30) by a Q&A with the director and producer of the play.\n\n \n\nIn addition\, Professor Margaret Miller (author of the seminal Athens and Persia in the Fifth Century B.C.: A Study in Cultural Receptivity) will offer a 30-min videorecorded talk on the Greek imagination of the Persians with evidence from iconography and material culture\, which teachers and pupils can watch in their own time.\n\n \n\nThe Schools Day\, including the performance\, is FREE\, but attendees are asked to organise their own transportation and lunch. If you wish to book your pupils for this day\, please email me (xavier.buxton@warwick.ac.uk)\, declaring\n\n \n\n 	the number of participants\, including teachers\n \n 	which of the afternoon talks you wish your pupils to attend.\n\n \n\n*Please do not over-estimate student numbers.* It has been frustrating\, in previous years\, to see empty seats at this over-subscribed event.\n\n \n\nThe Schools Day will become fully booked very quickly. We will operate a waiting list for those schools who apply after the booking limit has been reached. If the the matinee performance is full\, or not convenient\, schools may instead book for the evening performances on Thursday 25th (7.00 pm)\, or Friday 26th (7.00pm). Tickets for both these performances (normally £6) will have 50% discount for school groups\, and booking will commence on the 25th October. To make a school group booking for an evening performance\, please email groupbookings@warwick.ac.uk at the Warwick Arts Centre\, cc’ing me (xavier.buxton@warwick.ac.uk). I can also provide access and parking information\, and answer other enquiries.
URL:https://www.theclassicslibrary.com/event/warwick-ancient-drama-festival-2024-aeschylus-the-persians/
LOCATION:Warwick Arts Centre
CATEGORIES:events
ATTACH;FMTTYPE=image/jpeg:https://www.theclassicslibrary.com/wp-content/uploads/2023/09/The-Persians-at-Warwick.jpg
END:VEVENT
BEGIN:VEVENT
DTSTART;VALUE=DATE:20240130
DTEND;VALUE=DATE:20240131
DTSTAMP:20260422T051232
CREATED:20231116T153435Z
LAST-MODIFIED:20231116T153435Z
UID:56575-1706572800-1706659199@www.theclassicslibrary.com
SUMMARY:Ancient History Teachers' Day at Harrow School | @harrowschoolclassics
DESCRIPTION:Tuesday 30th January\, 10am-5pm\n  \n\nWORKSHOPS AND PLENARIES ON A RANGE\nOF GCSE AND A-LEVEL TOPICS\nFREE TO ATTEND\nCLICK HERE TO SIGN UP\n \n\n \n\n 
URL:https://www.theclassicslibrary.com/event/ancient-history-teachers-day-at-harrow-school-harrowschoolclassics/
LOCATION:Harrow School\, Grove Hill\, Harrow-on-the-Hill\, HA1 3HP\, United Kingdom
CATEGORIES:events
ATTACH;FMTTYPE=image/jpeg:https://www.theclassicslibrary.com/wp-content/uploads/2023/11/1700148333450-61c9c1ff-95f4-4675-8402-2922e4c6a1e0_1.jpg
END:VEVENT
BEGIN:VEVENT
DTSTART;TZID=Europe/London:20240130T080000
DTEND;TZID=Europe/London:20240130T170000
DTSTAMP:20260422T051232
CREATED:20240112T143238Z
LAST-MODIFIED:20240112T143238Z
UID:56821-1706601600-1706634000@www.theclassicslibrary.com
SUMMARY:Wild Visions\, Untamed Myth
DESCRIPTION:Double bill of Greek Myth touring Jan-Mar (suitable for 14yrs+)\n\n \n\nPlunge into the wild world of the goddess Artemis. Then meet Kassandra\, blessed with the power to see the future\, cursed with never being believed\n\n \n\nStorytellers: Katy Cawkwell & Lucy Lill More details: www.wildvisions.org\n\n \n\n \n\n \n\n \n\nVenues: Dorset Rural Touring\, Sheffield\, Poole\, Cambridge\, Richmond (N. Yorks)\, Newcastle\, Bath\, Leicester\, Liverpool\, Leeds\, Oxford\, Havant\, nr Bristol\n\n \n\nSponsored by Elanthy extra-virgin olive oil from Greece\n\n \n\nAlso schools performances part-funded by the Hellenic Society. Contact katycawkwell@gmail.com for more details
URL:https://www.theclassicslibrary.com/event/wild-visions-untamed-myth-3/
LOCATION:Sheffield High School for Girls\, 10 Rutland Park Broomhall\, S10 2PE\, United Kingdom
CATEGORIES:events
ATTACH;FMTTYPE=image/jpeg:https://www.theclassicslibrary.com/wp-content/uploads/2024/01/WV_1920x1005-1.jpg
END:VEVENT
END:VCALENDAR