BEGIN:VCALENDAR
VERSION:2.0
PRODID:-//The Classics Library - ECPv6.15.20//NONSGML v1.0//EN
CALSCALE:GREGORIAN
METHOD:PUBLISH
X-WR-CALNAME:The Classics Library
X-ORIGINAL-URL:https://www.theclassicslibrary.com
X-WR-CALDESC:Events for The Classics Library
REFRESH-INTERVAL;VALUE=DURATION:PT1H
X-Robots-Tag:noindex
X-PUBLISHED-TTL:PT1H
BEGIN:VTIMEZONE
TZID:Europe/London
BEGIN:DAYLIGHT
TZOFFSETFROM:+0000
TZOFFSETTO:+0100
TZNAME:BST
DTSTART:20230326T010000
END:DAYLIGHT
BEGIN:STANDARD
TZOFFSETFROM:+0100
TZOFFSETTO:+0000
TZNAME:GMT
DTSTART:20231029T010000
END:STANDARD
BEGIN:DAYLIGHT
TZOFFSETFROM:+0000
TZOFFSETTO:+0100
TZNAME:BST
DTSTART:20240331T010000
END:DAYLIGHT
BEGIN:STANDARD
TZOFFSETFROM:+0100
TZOFFSETTO:+0000
TZNAME:GMT
DTSTART:20241027T010000
END:STANDARD
BEGIN:DAYLIGHT
TZOFFSETFROM:+0000
TZOFFSETTO:+0100
TZNAME:BST
DTSTART:20250330T010000
END:DAYLIGHT
BEGIN:STANDARD
TZOFFSETFROM:+0100
TZOFFSETTO:+0000
TZNAME:GMT
DTSTART:20251026T010000
END:STANDARD
END:VTIMEZONE
BEGIN:VEVENT
DTSTART;VALUE=DATE:20240511
DTEND;VALUE=DATE:20240512
DTSTAMP:20260421T182417
CREATED:20231114T160100Z
LAST-MODIFIED:20231114T160100Z
UID:56557-1715385600-1715471999@www.theclassicslibrary.com
SUMMARY:Virgil Society Meeting (11/5/24
DESCRIPTION:Saturday 11 May 2024\n\n \n\n11:00 a.m.  Dr Bobby Xinyue (King’s College London)\n\n \n\n‘Humour and Power in the Moretum’\n\n \n\n1 p.m.  Lunch\n\n \n\n2:30 p.m.  Annual General Meeting for 2023-2024\n\n \n\n3:00 p.m.   Reading from Virgil (John Hazel): text tbc.\n\n \n\n3:15 p.m.  Dr Donncha O’Rourke (University of Edinburgh)\n\n \n\n‘It takes one to know one: The “Roman Callimachus” reads Virgil’
URL:https://www.theclassicslibrary.com/event/virgil-society-meeting-11-5-24/
LOCATION:Senate House\, Malet Street\, London\, WC1E 7HU\, United Kingdom
CATEGORIES:events
ATTACH;FMTTYPE=image/png:https://www.theclassicslibrary.com/wp-content/uploads/2023/11/virgil-society.png
END:VEVENT
BEGIN:VEVENT
DTSTART;TZID=Europe/London:20240515T190000
DTEND;TZID=Europe/London:20240515T200000
DTSTAMP:20260421T182417
CREATED:20230720T153304Z
LAST-MODIFIED:20230720T153304Z
UID:55802-1715799600-1715803200@www.theclassicslibrary.com
SUMMARY:Me Mini: Remembering the Classical Past
DESCRIPTION:The new programme is ready!\n\n \n\nIf you’re not a member of SandB CA and would like to become a member\, CLICK HERE.\n\n \n\nThere are eight events in all across the next academic year…
URL:https://www.theclassicslibrary.com/event/me-mini-remembering-the-classical-past/
CATEGORIES:events
ATTACH;FMTTYPE=image/jpeg:https://www.theclassicslibrary.com/wp-content/uploads/2023/07/southport-and-birkdale-logo.jpg
END:VEVENT
END:VCALENDAR