BEGIN:VCALENDAR
VERSION:2.0
PRODID:-//The Classics Library - ECPv6.15.20//NONSGML v1.0//EN
CALSCALE:GREGORIAN
METHOD:PUBLISH
X-ORIGINAL-URL:https://www.theclassicslibrary.com
X-WR-CALDESC:Events for The Classics Library
REFRESH-INTERVAL;VALUE=DURATION:PT1H
X-Robots-Tag:noindex
X-PUBLISHED-TTL:PT1H
BEGIN:VTIMEZONE
TZID:Europe/London
BEGIN:DAYLIGHT
TZOFFSETFROM:+0000
TZOFFSETTO:+0100
TZNAME:BST
DTSTART:20230326T010000
END:DAYLIGHT
BEGIN:STANDARD
TZOFFSETFROM:+0100
TZOFFSETTO:+0000
TZNAME:GMT
DTSTART:20231029T010000
END:STANDARD
BEGIN:DAYLIGHT
TZOFFSETFROM:+0000
TZOFFSETTO:+0100
TZNAME:BST
DTSTART:20240331T010000
END:DAYLIGHT
BEGIN:STANDARD
TZOFFSETFROM:+0100
TZOFFSETTO:+0000
TZNAME:GMT
DTSTART:20241027T010000
END:STANDARD
BEGIN:DAYLIGHT
TZOFFSETFROM:+0000
TZOFFSETTO:+0100
TZNAME:BST
DTSTART:20250330T010000
END:DAYLIGHT
BEGIN:STANDARD
TZOFFSETFROM:+0100
TZOFFSETTO:+0000
TZNAME:GMT
DTSTART:20251026T010000
END:STANDARD
END:VTIMEZONE
BEGIN:VEVENT
DTSTART;VALUE=DATE:20240608
DTEND;VALUE=DATE:20240609
DTSTAMP:20260421T163946
CREATED:20240503T152041Z
LAST-MODIFIED:20240503T152041Z
UID:58668-1717804800-1717891199@www.theclassicslibrary.com
SUMMARY:CA: Online CPD Day for Ancient History Teachers
DESCRIPTION:From the Classical Association…\n\n \nKeynote lecture lined up from Tristan Hughes\, host of the award-winning podcast\, The Ancients.\n\n\n \n\nPlease use the form HERE to register for this event\, and to indicate which workshop you are most likely to attend through the day. This is not a binding commitment\, but will help to give us a some ideas on numbers.\n\n \n\nThe programme is as follows:\n\n \n\n10-10:15: Welcome\n\n \n\n10:15-10:45: Workshop 1\n\n \n\nGCSE: ‘Oracy in the Period Studies’\, Sarah Rix-Drummond\, Reading School\n\n \n\nA Level: ‘Attic inscriptions and the dynamics of Athenian Imperialism’\, Prof. Peter Liddel\, University of Manchester\n\n \n\nApproaches to AH: ‘Ancient History in the KS3 History Curriculum’\, Gem Adams\, Allerton Grange School & Classics For All\n\n \n\n10:45-11:15: Workshop 2\n\n \n\nGCSE/A Level: ‘Essay Writing at GCSE and A Level’\, Rob Taylor\, St Paul’s School\n\n \n\nA Level: ‘Teaching A Level Ancient History in a fully comprehensive setting’\, Emma Beetham\, York College\n\n \n\nApproaches to AH: ‘Teaching Life in the Roman World at KS3′\, Dr Jane Ainsworth\, Leicester Classics Hub Manager\, Classics For All\n\n \n\n11:15-11:30: Break\n\n \n\n11:30-12:15: Tristan Hughes: ‘history podcasting in the present digital age’\n\n \n\nHost of the award winning podcast The Ancients and author of a book on Alexander the Great’s successors\, Tristan will be joining us to discuss the myriad ways to create and share history content with people in today’s age across all different kinds of media; from social media\, to YouTube\, to podcasting\, to documentaries\, and how these fields are so closely intertwined.\n\n \n\n12:15-13:00: Lunch\n\n \n\n13:00-13:30: Workshop 3\n\n \n\nGCSE: ‘Sources in the GCSE classroom’\, Dr Abigail Graham\, ICS\n\n \n\nA Level: ‘Sources to diversify the A Level Greek Period Study’\, James Renshaw\, Godolphin & Latymer School\n\n \n\nApproaches to AH: ‘Fascism: Ancient & Modern’\, Anthony Smart\, York St John University\n\n \n\n13:30-14:00: Workshop 4\n\n \n\nGCSE: ‘GCSE Ancient History in mixed ability settings’\, Tara Atkinson\, Nower Hill High School\n\n \n\nA Level: ‘Bums on seats: A session looking at some tried and tested strategies for maintaining strong student recruitment’\, Peter Wright\, Blackpool Sixth Form College\n\n \n\nApproaches to AH: ‘Ancient History in the AQA specifications’\, Winstanley College\n\n \n\n14:00-14:15: Break\n\n \n\n14:15-15:15: OPTIONAL: GCSE and A Level Ancient History Exam Reform\, The Classical Association & OCR\n\n \n\nAlex Orgee\, OCR’s Subject Advisor for Classics\, and the Classical Association’s Subject Advisory Team for Ancient History will discuss the future redevelopment of these specifications. We will be sharing ideas that we would welcome your feedback on.\n\n \n\nYou can find more information about each of the workshops here. \n\n \n\nZoom links will be shared with you a few days prior to the event. If you have any questions\, please email Gráinne: education@classicalassociation.org.
URL:https://www.theclassicslibrary.com/event/ca-online-cpd-day-for-ancient-history-teachers/
LOCATION:online\, 2 Burton Walks\, Loughborough\, LE11 2DU\, United Kingdom
CATEGORIES:events
ATTACH;FMTTYPE=image/jpeg:https://www.theclassicslibrary.com/wp-content/uploads/2018/08/Classical-Association.jpg
END:VEVENT
BEGIN:VEVENT
DTSTART;TZID=Europe/London:20240610T120000
DTEND;TZID=Europe/London:20240610T150000
DTSTAMP:20260421T163946
CREATED:20240511T132402Z
LAST-MODIFIED:20240511T132402Z
UID:58730-1718020800-1718031600@www.theclassicslibrary.com
SUMMARY:KCL Ancient History Teachers' Day 2024
DESCRIPTION:Mon\, 10 Jun 2024 12:00 – 15:00 BST\n\n \n\nA day of CPD for teachers of Ancient History and Classics.\n\n \n\nI am delighted to share with you details of the latest event in the 2023-24 Outreach Programme of the Department of Classics at King’s College London: our free\, in-person Ancient History Teachers’ Day.\n\n \n\nThe Teacher’s Day this year aims particularly to enhance the subject knowledge of teachers of the GCSE & A level Ancient History specifications. All teachers of Classical subjects may benefit and are welcome to attend.\n\n \n\nTeachers are encouraged to request particular topics for discussion when they sign up for the event.\n\n \n\nThe university will provide a complementary vegetarian lunch\, during which attendees will have an opportunity to network and meet the graduating PGCE cohort.\n\n \nFURTHER INFORMATION AND TO BOOK
URL:https://www.theclassicslibrary.com/event/kcl-ancient-history-teachers-day-2024/
LOCATION:KCL\, 170 Strand\, London\, WC2R 2LS\, United Kingdom
CATEGORIES:events
ATTACH;FMTTYPE=image/jpeg:https://www.theclassicslibrary.com/wp-content/uploads/2016/04/kcl-big.jpg
END:VEVENT
BEGIN:VEVENT
DTSTART;VALUE=DATE:20240615
DTEND;VALUE=DATE:20240616
DTSTAMP:20260421T163946
CREATED:20240430T142604Z
LAST-MODIFIED:20240430T142604Z
UID:58563-1718409600-1718495999@www.theclassicslibrary.com
SUMMARY:CfA Teachers' Day: Sources and Resources
DESCRIPTION:From Classics for All…\n\n \n\nhttps://cfawestmidlands.com/upcoming-events?fbclid=IwZXh0bgNhZW0CMTEAAR1IoXfTMxlFhqIdOL26qiWcSqyd6wgOGbw4-k7xdnWl-lrOeB_n2zt9Wr8_aem_AReurBA5kqJZ7GG_Y38P2RxllHqfeYbk9Tu3MdblyHYvVf4ZpfI_9Kn0QZAeUhQXn3TzgRbY9cgOs2ToUR3ENwcp\n\n \n\nPlease join us at the University of Birmingham on Saturday the 15th of June for our annual Teachers’ Day!\n\n \n\nWe’ve titled the event ‘Sources and Resources’\, and we’re hoping that it will be a really helpful opportunity for primary and secondary teachers alike. As you’ll see from the attached timetable\, there are some sessions which are aimed primarily at primary or secondary teachers\, but then there are also sessions (such as teaching with ancient objects for instance) which can be useful for everyone.*Please note that you do not have to be a member of the BMCA to attend\, and those who are running Latin/ Classics clubs off curriculum are equally as welcome!*A few of highlights of the day…\n\n \n\n 	Charlie Andrew\, creator of Max Classics (any much more) will be attending\, and there will be lots of time to chat with her.\n \n 	Alex Orgee\, the OCR Classics Subject Advisor\, will be one of our plenary speakers.\n \n 	Dr Emma Southon will be giving our final plenary\, and her talk will be related to her most recent book – A History of the Roman Empire in 21 Women.\n\n \n\nWe’re hoping that the timing of the day at the end of the academic year will provide everyone with an opportunity to share their thoughts on this year\, and to get some tips\, new resources\, and general inspiration for after the summer! And of course\, a lovely opportunity to meet other Latin/ Classics teachers and perhaps forge some connections. Here is the link to express your interest: https://forms.office.com/e/HBVbHPR5VGFor any questions\, please get in touch with me at bham.classicsforall@contacts.bham.ac.uk
URL:https://www.theclassicslibrary.com/event/cfa-teachers-day-sources-and-resources/
LOCATION:University of Birmingham\, Birmingham\, United Kingdom
CATEGORIES:events
ATTACH;FMTTYPE=image/png:https://www.theclassicslibrary.com/wp-content/uploads/2020/09/cfa-red.png
END:VEVENT
BEGIN:VEVENT
DTSTART;VALUE=DATE:20240619
DTEND;VALUE=DATE:20240622
DTSTAMP:20260421T163946
CREATED:20240126T175210Z
LAST-MODIFIED:20240611T202136Z
UID:57125-1718755200-1719014399@www.theclassicslibrary.com
SUMMARY:KCL Greek Play 2024
DESCRIPTION:The KCL Greek play is taking place on 19-21st June. The play is an adaptation of Lysistrata. There will be a 30 min presentation by a distinguished scholar before each evening performance\, starting at 6pm\, free to evening-ticket-holders. \n\n\n \n\nJune 19: Professor Edith Hall  (Durham University).\n\n\n\nJune 20: Dr. Nick Lowe from Royal Holloway.\n\n\n\nJune 21: Dr. Naomi Scott from the University of Bristol.\n\n\n\n \nFurther information can be found via the QR code on the poster. \n \n\n\n \n\n\n\n \nA script unsuitable for Victorian sensibilities. A growing gender revolution. A student theatre group. What could go wrong?   \n\n\n \nNear the end of the nineteenth century\, a group of students gather to put on their 6th annual Greek Play- a performance of an original ancient text. However\, (recent) tradition is disrupted when they find out that not only are they to stage the seemingly unstageable Lysistrata\, but that female students from the separate Ladies Department will participate for the first time.   \n\n\n \nUsing a mixture of new material and original text from Aristophanes\, Lysistrata in the Wings explores the reinterpretation of ancient theatre and how it takes on new meanings for each generation.’
URL:https://www.theclassicslibrary.com/event/kcl-greek-play-2024/
LOCATION:Greenwood Theatre\, 55 Weston Street\, London\, SE1 3RA\, United Kingdom
CATEGORIES:events
ATTACH;FMTTYPE=image/jpeg:https://www.theclassicslibrary.com/wp-content/uploads/2016/04/kcl-big.jpg
END:VEVENT
BEGIN:VEVENT
DTSTART;TZID=Europe/London:20240622T100000
DTEND;TZID=Europe/London:20240622T160000
DTSTAMP:20260421T163946
CREATED:20240613T144904Z
LAST-MODIFIED:20240613T144904Z
UID:58796-1719050400-1719072000@www.theclassicslibrary.com
SUMMARY:Hands Up Education Summer Conference
DESCRIPTION:Hands Up Education’s Summer Conference\, Saturday 22 June\nWe are delighted to again be hosting our annual summer conference for Classics teachers at the Museum of London (London Wall)\, on Saturday the 22nd of June\, from 10am – 4pm. \nWe’ve got a packed programme with practical and inspiring sessions for teachers of Classics at KS3 and KS4\, including: \n\nA beginner’s introduction to Suburani\nDigital support for Suburani\nSuburani Book 3: a beautiful theme-based introduction to literature\nUsing images in the Latin classroom\nTeaching ‘The City of Rome’: support and ideas for Eduqas Paper 3B\nFocus on: Suburani Chapters 11 to 16 – top teaching tips and ideas\nTeaching Roman imperialism through characters and culture\nWhat is Latin metre? An introduction for complete beginners\nFocus on: verbs – using the Suburani verb trainer to improve student confidence\n\nAs well as a thought-provoking plenary session by Dr Ersin Hussain (Swansea University) on Life in the Roman Countryside. \nDate: Saturday 22nd June 2024 \nLocation: Museum of London\, EC2Y 5HN \nTiming: 10 a.m. to 4 p.m. \nCost: £49.00 for teachers; £25 for PGCE and ITT students. Lunch and refreshments will be provided. Bursaries are available – please contact us for details. \nBooking and more information at: https://hands-up-education.org/conference24.html
URL:https://www.theclassicslibrary.com/event/hands-up-education-summer-conference/
LOCATION:Museum of London\, 150 London Wall\, London\, EC2Y 5HN\, United Kingdom
CATEGORIES:events
ATTACH;FMTTYPE=image/jpeg:https://www.theclassicslibrary.com/wp-content/uploads/2024/06/Summer2024.jpeg
END:VEVENT
BEGIN:VEVENT
DTSTART;TZID=Europe/London:20240625T173000
DTEND;TZID=Europe/London:20240625T190000
DTSTAMP:20260421T163946
CREATED:20240619T151822Z
LAST-MODIFIED:20240619T151822Z
UID:58876-1719336600-1719342000@www.theclassicslibrary.com
SUMMARY:'Having a Queer Old Time with Tibullus'\, an Online Talk
DESCRIPTION:Tuesday 25 June at 5.30. Registration on this link (and below).\n\n \n\nTo celebrate Pride Month and Diversity Week\, LSF Classics Lecture by Dr Joe Watson (Teaching Fellow in Latin Literature and Language\, University of Warwick)\n\n \n\nTitle: ‘Having a Queer Old Time with Tibullus’\n\n \n\nAbstract: The Roman poet Tibullus (c. 55 BCE–c. 19 BCE) wrote two books of love poems in the elegiac genre\, most of which were addressed to two women named Delia and Nemesis. However\, a short cycle of three poems (Tibullus 1.4\, 1.8 and 1.9) chronicles the poet-lover’s affair and break-up with a boy called Marathus. In this lecture\, Dr Joe Watson will explore how Tibullus connects this homoerotic relationship with the themes of time and cyclicality. Through the use of some contemporary queer theory\, we will explore the connections between homosexuality\, queerness\, time and poetry.\n\n \n\nThe talk will be held on Teams and it is a free public lecture.\n\n \n\nTo register for the talk please follow this link.\n\n \n\nIf you have any queries\, please contact Dr M Gonzalez Rodriguez at m.rodriguez@lsf.org‘
URL:https://www.theclassicslibrary.com/event/having-a-queer-old-time-with-tibullus-an-online-talk/
CATEGORIES:events
ATTACH;FMTTYPE=image/png:https://www.theclassicslibrary.com/wp-content/uploads/2024/06/97343-17186383293808-m.png
END:VEVENT
BEGIN:VEVENT
DTSTART;TZID=Europe/London:20240628T183000
DTEND;TZID=Europe/London:20240628T200000
DTSTAMP:20260421T163947
CREATED:20240624T232939Z
LAST-MODIFIED:20240624T232939Z
UID:58892-1719599400-1719604800@www.theclassicslibrary.com
SUMMARY:’In Ithaka’ at the Greenwood Theatre
DESCRIPTION:Teachers and students are invited to join us at KCL’s Greenwood Theatre on Friday June 28\, 6.30-8pm for a free performance of ‘In Ithaka’. ‘In Ithaka’ is an operatic work-in-progress\, co-developed and sponsored by the Penelope’s Web creative research project. The performance will include a Q&A with creative artists\, performers\, and academics.\n\n\nPenelope’s Web is an opera project that stems from Homer’s ancient Greek epic\, the Odyssey. It explores the motivations of Odysseus’ wife Penelope\, the great exemplar of feminine endurance and cunning\, and the other characters left behind in Odysseus’ palace on the island of Ithaka. Cheryl Frances-Hoad (composer) and Jeanne Pansard-Besson (librettist and director) are creating a work that questions how Penelope’s story has been told in the past\, and reflects on new ways in which contemporary music can give voice to the minor characters of the Odyssey.\n\nInspired by the setting of Margaret Atwood’s The Penelopiad\, ‘In Ithaka’ takes place in a Greek Underworld where shape-shifting characters recall and retell their past lives. Two mezzo-sopranos will sing the role of Penelope\, and the Choir of King’s College London will sing the part of her suitors and the enslaved palace workers. This première of ‘In Ithaka’ in the Greenwood Theatre shows how the collaborative work of Penelope’s Web is giving a twenty-first century afterlife to the lost soundworlds of ancient Greek epic.\n\n\n\nAll Classics teachers and students may find this event of interest\, but year 12 students of Class Civ are likely to find it particularly helpful for exploring a novel dimension to ‘World of the Hero’.\n\nThe event is open to the public to turn up on the night\, but we would appreciate people signing up at the following link to give us some idea of numbers:\n\n\nhttps://www.tickettailor.com/events/kingscollegelondon56/1292323a
URL:https://www.theclassicslibrary.com/event/in-ithaka-at-the-greenwood-theatre/
LOCATION:Greenwood Theatre\, 55 Weston Street\, London\, SE1 3RA\, United Kingdom
CATEGORIES:events
ATTACH;FMTTYPE=image/jpeg:https://www.theclassicslibrary.com/wp-content/uploads/2016/04/kcl-big.jpg
END:VEVENT
END:VCALENDAR