BEGIN:VCALENDAR
VERSION:2.0
PRODID:-//The Classics Library - ECPv6.15.19//NONSGML v1.0//EN
CALSCALE:GREGORIAN
METHOD:PUBLISH
X-ORIGINAL-URL:https://www.theclassicslibrary.com
X-WR-CALDESC:Events for The Classics Library
REFRESH-INTERVAL;VALUE=DURATION:PT1H
X-Robots-Tag:noindex
X-PUBLISHED-TTL:PT1H
BEGIN:VTIMEZONE
TZID:Europe/London
BEGIN:DAYLIGHT
TZOFFSETFROM:+0000
TZOFFSETTO:+0100
TZNAME:BST
DTSTART:20240331T010000
END:DAYLIGHT
BEGIN:STANDARD
TZOFFSETFROM:+0100
TZOFFSETTO:+0000
TZNAME:GMT
DTSTART:20241027T010000
END:STANDARD
BEGIN:DAYLIGHT
TZOFFSETFROM:+0000
TZOFFSETTO:+0100
TZNAME:BST
DTSTART:20250330T010000
END:DAYLIGHT
BEGIN:STANDARD
TZOFFSETFROM:+0100
TZOFFSETTO:+0000
TZNAME:GMT
DTSTART:20251026T010000
END:STANDARD
BEGIN:DAYLIGHT
TZOFFSETFROM:+0000
TZOFFSETTO:+0100
TZNAME:BST
DTSTART:20260329T010000
END:DAYLIGHT
BEGIN:STANDARD
TZOFFSETFROM:+0100
TZOFFSETTO:+0000
TZNAME:GMT
DTSTART:20261025T010000
END:STANDARD
END:VTIMEZONE
BEGIN:VEVENT
DTSTART;TZID=Europe/London:20250909T170000
DTEND;TZID=Europe/London:20250909T190000
DTSTAMP:20260421T031540
CREATED:20250702T151529Z
LAST-MODIFIED:20250702T151529Z
UID:61338-1757437200-1757444400@www.theclassicslibrary.com
SUMMARY:Celebrating Classical Civilisation’s 60th Birthday: An Event for Teachers
DESCRIPTION:An event for Classics teachers at Marylebone Boys’ School on 9th September 5-7pm.\n\n \n\nThe event is a book launch for Classics in Action and Classical Civilisation and Ancient History in British Secondary Education. It will also allow teachers to celebrate the 60th birthday of Classical Civilisation as an examined subject in English schools. I’ve attached the flyer and the booking link is: Celebrating Classical Civilisation: an event for teachers. All teachers are invited.
URL:https://www.theclassicslibrary.com/event/celebrating-classical-civilisations-60th-birthday-an-event-for-teachers/
CATEGORIES:events
ATTACH;FMTTYPE=image/jpeg:https://www.theclassicslibrary.com/wp-content/uploads/2018/08/Classical-Association.jpg
END:VEVENT
BEGIN:VEVENT
DTSTART;TZID=Europe/London:20250909T170000
DTEND;TZID=Europe/London:20250909T190000
DTSTAMP:20260421T031540
CREATED:20250821T144205Z
LAST-MODIFIED:20250821T144205Z
UID:61507-1757437200-1757444400@www.theclassicslibrary.com
SUMMARY:Classical Civilisation: 60th Birthday Celebration
DESCRIPTION:Join the Classical Association and the Advocating Classics Education project onTuesday 9th September\, 5-7pm at Marylebone Boys’ School to celebrate the 60th birthday of Classical Civilisation as an examined subject in English schools. \nRegister your attendance here: https://forms.office.com/e/hBPpeExLNi
URL:https://www.theclassicslibrary.com/event/classical-civilisation-60th-birthday-celebration/
CATEGORIES:events
ATTACH;FMTTYPE=image/jpeg:https://www.theclassicslibrary.com/wp-content/uploads/2018/08/Classical-Association.jpg
END:VEVENT
BEGIN:VEVENT
DTSTART;VALUE=DATE:20250923
DTEND;VALUE=DATE:20250924
DTSTAMP:20260421T031540
CREATED:20250527T151055Z
LAST-MODIFIED:20250527T151055Z
UID:61207-1758585600-1758671999@www.theclassicslibrary.com
SUMMARY:Classics Conference At Wycombe Abbey
DESCRIPTION:From the WA Department…\n\n \n\n \n\n \n\nDear all\,\n\n \n\nWycombe Abbey is excited to be hosting its inaugural Classics Conference on Tuesday 23 September 2025\, and we would like to extend an invitation to your GCSE and A Level Classics pupils. We are thrilled to be hosting five fantastic speakers from the Universities of Cambridge and Oxford whose research spans Greek and Latin Literature as well as Classical Art History and Archaeology:\n\n \n\nProf. Llewelyn Morgan (Brasenose College\, Oxford)\n\n \n\nDr Rosanna Omitowoju (King’s College\, Cambridge)\n\n \n\nDr Gail Trimble (Trinity College\, Oxford)\n\n \n\nProf. Caroline Vout (Christ’s College\, Cambridge)\n\n \n\nKeynote: Prof. Andrew Wallace-Hadrill (Sidney Sussex\, Cambridge)\n\n \n\nThere is a limited number of spaces available for this event\, and please note that all pupils must be accompanied by a member of staff from your institution. Attendance will be free of charge and refreshments and lunch will be provided. We also have funding available to subsidise travel costs.\n\n \n\n\n\n \n\nSchedule for the day as follows:\n\n \n\n9.00-9.30 am: arrival & breakfast\n\n \n\n9.30-9.45 am: welcome & instructions for the day\n\n \n\n9.45-10.30 am: TALK 1\n\n \n\n10.30-11 am: break & refreshments\n\n \n\n11-11.45 am: TALK 2\n\n \n\n11.45-12.30 pm: TALK 3\n\n \n\n12.30-1.30 pm: Lunch\n\n \n\n1.30-2.15 pm: TALK 4\n\n \n\n2.15-3 pm: KEYNOTE\n\n \n\n3-3.30 pm: tea & departure\n\n \n\nPlease sign up to express your interest by completing this Microsoft Form by Friday 20 June: https://forms.office.com/e/V0YduN7Pqx\n\n \n\nWe will confirm your attendance by Friday 27 June. In the meantime\, please feel free to contact us if you have any questions.\n\n \n\nKind regards\,\n\n \n\nChristina Tsaknaki (Head of Classics) and Charlie Pemberton (Teacher of Classics)\n\n \n\ntsaknakic@wycombeabbey.com\n\n \n\npembertonc@wycombeabbey.com\n\n \n\n 
URL:https://www.theclassicslibrary.com/event/classics-conference-at-wycombe-abbey/
LOCATION:Wycombe Abbey School\, HP11 1PE\, United Kingdom
CATEGORIES:events
ATTACH;FMTTYPE=image/jpeg:https://www.theclassicslibrary.com/wp-content/uploads/2023/04/wycombe-abbey-BIG.jpg
END:VEVENT
END:VCALENDAR