BEGIN:VCALENDAR
VERSION:2.0
PRODID:-//The Classics Library - ECPv6.15.20//NONSGML v1.0//EN
CALSCALE:GREGORIAN
METHOD:PUBLISH
X-ORIGINAL-URL:https://www.theclassicslibrary.com
X-WR-CALDESC:Events for The Classics Library
REFRESH-INTERVAL;VALUE=DURATION:PT1H
X-Robots-Tag:noindex
X-PUBLISHED-TTL:PT1H
BEGIN:VTIMEZONE
TZID:Europe/London
BEGIN:DAYLIGHT
TZOFFSETFROM:+0000
TZOFFSETTO:+0100
TZNAME:BST
DTSTART:20240331T010000
END:DAYLIGHT
BEGIN:STANDARD
TZOFFSETFROM:+0100
TZOFFSETTO:+0000
TZNAME:GMT
DTSTART:20241027T010000
END:STANDARD
BEGIN:DAYLIGHT
TZOFFSETFROM:+0000
TZOFFSETTO:+0100
TZNAME:BST
DTSTART:20250330T010000
END:DAYLIGHT
BEGIN:STANDARD
TZOFFSETFROM:+0100
TZOFFSETTO:+0000
TZNAME:GMT
DTSTART:20251026T010000
END:STANDARD
BEGIN:DAYLIGHT
TZOFFSETFROM:+0000
TZOFFSETTO:+0100
TZNAME:BST
DTSTART:20260329T010000
END:DAYLIGHT
BEGIN:STANDARD
TZOFFSETFROM:+0100
TZOFFSETTO:+0000
TZNAME:GMT
DTSTART:20261025T010000
END:STANDARD
END:VTIMEZONE
BEGIN:VEVENT
DTSTART;TZID=Europe/London:20251104T160000
DTEND;TZID=Europe/London:20251104T173000
DTSTAMP:20260423T221828
CREATED:20250916T140427Z
LAST-MODIFIED:20250916T140427Z
UID:61556-1762272000-1762277400@www.theclassicslibrary.com
SUMMARY:Get Ready to Teach GCSE & A Level Greek prose: Herodotus' Histories
DESCRIPTION:Tuesday 4th November\, 4-5:30pm\nGet Ready to Teach GCSE & A Level Greek prose: Herodotus’ Histories with Andy Mylne and Prof. Katherine Clarke\n\n \n\nRegistration link: https://forms.office.com/e/DU1cJNaHHq
URL:https://www.theclassicslibrary.com/event/get-ready-to-teach-gcse-a-level-greek-prose-herodotus-histories/
CATEGORIES:events
ATTACH;FMTTYPE=image/jpeg:https://www.theclassicslibrary.com/wp-content/uploads/2025/09/CA_Webinar_Social_05.jpg
END:VEVENT
BEGIN:VEVENT
DTSTART;TZID=Europe/London:20251104T190000
DTEND;TZID=Europe/London:20251104T200000
DTSTAMP:20260423T221828
CREATED:20251008T150533Z
LAST-MODIFIED:20251008T150533Z
UID:61672-1762282800-1762286400@www.theclassicslibrary.com
SUMMARY:A Taste of Latin: a Hellenic and Roman Societies Online Course
DESCRIPTION:Caroline K. Mackenzie\nA Taste of Latin\n\n \n\nTuesday 4 November\, 7-8pm (UK time) and repeated on Saturday 15 November\, 11am-12 noon (UK time)\n\n \n\nAs part of our series of online courses\, we are offering a session on Latin – A Taste of Latin – delivered by Caroline K. Mackenzie.\n\n \n\nThis illustrated talk will showcase the longevity and artistry of Latin\, and demonstrate the ubiquitous links between Latin and English. Whether you are a complete beginner or wish to brush up on existing knowledge\, Caroline will take you on an exciting exploration of the lexicon of the Latin language. There will also be the opportunity to dip into some Latin verse and to discover how Roman poets used their language to stir emotion. The talk will be followed by a Q & A session.\n\n \n\nThis talk will take place on Tuesday 4 November\, 7-8pm (UK time) and will be repeated on Saturday 15 November\, 11am-12 noon (UK time). You can select your preferred date and time when booking.\n\n \n\nFurther details and the booking form can be found here:\n\n \n\nhttps://www.hellenicandromanlibrary.org/Events/Event-Registration/EventId/22
URL:https://www.theclassicslibrary.com/event/a-taste-of-latin-a-hellenic-and-roman-societies-online-course/
LOCATION:online\, 2 Burton Walks\, Loughborough\, LE11 2DU\, United Kingdom
CATEGORIES:events
ATTACH;FMTTYPE=image/jpeg:https://www.theclassicslibrary.com/wp-content/uploads/2024/04/roman-society-e1713449636614.jpg
END:VEVENT
BEGIN:VEVENT
DTSTART;VALUE=DATE:20251107
DTEND;VALUE=DATE:20251108
DTSTAMP:20260423T221828
CREATED:20250916T141300Z
LAST-MODIFIED:20250916T141300Z
UID:61570-1762473600-1762559999@www.theclassicslibrary.com
SUMMARY:Harrodian Sixth form Classics Conference 2025
DESCRIPTION:On Friday 7th November 2025 we will be hosting our annual Harrodian Sixth form Classics Conference at The Harrodian School. \n\n \n\nDr Andrew Sillett of St Hilda’s\, Oxford\, will speak on Cicero; Professor Richard Jenkyns of Lady Margaret Hall\, Oxford\, will speak on Heroism in Homer and Virgill; Dr Thomas Nelson of St Hilda’s\, Oxford\, will speak on Greek Theatre\,  Dr Anne Alwis of the University of Kent will speak on love\, sexuality and gender in Greece and Rome and Dr Alexandre Johnston of the Faculty of Classics\, Oxford\, will speak on Greek religion.\n\n \n\nThis is for students to attend with their school\, accompanied by a teacher only. \n\n \n\nTo cover the costs we are asking students to pay £25.00. Lunch will be provided and staff places are free.   \n\n \n\nPlease email cgibb@harrodian.com to confirm your booking and make payment by Monday 20th October to confirm your place.  
URL:https://www.theclassicslibrary.com/event/harrodian-sixth-form-classics-conference-2025/
CATEGORIES:events
ATTACH;FMTTYPE=image/jpeg:https://www.theclassicslibrary.com/wp-content/uploads/2017/09/harrodian-big.jpg
END:VEVENT
BEGIN:VEVENT
DTSTART;TZID=Europe/London:20251111T150000
DTEND;TZID=Europe/London:20251111T173000
DTSTAMP:20260423T221828
CREATED:20250916T135733Z
LAST-MODIFIED:20250916T135733Z
UID:61551-1762873200-1762882200@www.theclassicslibrary.com
SUMMARY:Read Between The Lines: From Hieroglyphs to Emojis (Iris Classics Centre)
DESCRIPTION:Don’t forget to book for their next big festival with University of Oxford and Università Ca’ Foscari Venezia celebrating ancient and modern writing.\n\n \n\nFrom thrilling labyrinth escape shows to comedy featuring emojis\, with stalls\, activities\, refreshments\, and Minoan dancing\, it will be an unmissable event! Free and open to all ages – more info and booking at tinyurl.com/mrez7fuy\n\n \n\n \n\n 
URL:https://www.theclassicslibrary.com/event/read-between-the-lines-from-hieroglyphs-to-emojis-iris-classics-centre/
LOCATION:Cheney School\, Cheney Lane\, Oxford\, OX3 7QH\, United Kingdom
CATEGORIES:events
ATTACH;FMTTYPE=image/jpeg:https://www.theclassicslibrary.com/wp-content/uploads/2025/09/between-the-lines-poster-a3-final_page-0001.webp
END:VEVENT
BEGIN:VEVENT
DTSTART;TZID=Europe/London:20251115T110000
DTEND;TZID=Europe/London:20251115T120000
DTSTAMP:20260423T221828
CREATED:20251008T150715Z
LAST-MODIFIED:20251008T150715Z
UID:61674-1763204400-1763208000@www.theclassicslibrary.com
SUMMARY:A Taste of Latin: a Hellenic and Roman Societies Online Course
DESCRIPTION:Caroline K. Mackenzie A Taste of Latin\n\n\n\nTuesday 4 November\, 7-8pm (UK time) and repeated on Saturday 15 November\, 11am-12 noon (UK time)\n\n\n\nAs part of our series of online courses\, we are offering a session on Latin – A Taste of Latin – delivered by Caroline K. Mackenzie.\n\n\n\nThis illustrated talk will showcase the longevity and artistry of Latin\, and demonstrate the ubiquitous links between Latin and English. Whether you are a complete beginner or wish to brush up on existing knowledge\, Caroline will take you on an exciting exploration of the lexicon of the Latin language. There will also be the opportunity to dip into some Latin verse and to discover how Roman poets used their language to stir emotion. The talk will be followed by a Q & A session.\n\n\n\nThis talk will take place on Tuesday 4 November\, 7-8pm (UK time) and will be repeated on Saturday 15 November\, 11am-12 noon (UK time). You can select your preferred date and time when booking.\n\n\n\nFurther details and the booking form can be found here:\n\n\n\nhttps://www.hellenicandromanlibrary.org/Events/Event-Registration/EventId/22
URL:https://www.theclassicslibrary.com/event/a-taste-of-latin-a-hellenic-and-roman-societies-online-course-2/
LOCATION:online\, 2 Burton Walks\, Loughborough\, LE11 2DU\, United Kingdom
CATEGORIES:events
ATTACH;FMTTYPE=image/jpeg:https://www.theclassicslibrary.com/wp-content/uploads/2024/04/roman-society-e1713449636614.jpg
END:VEVENT
BEGIN:VEVENT
DTSTART;TZID=Europe/London:20251119T160000
DTEND;TZID=Europe/London:20251119T173000
DTSTAMP:20260423T221828
CREATED:20250916T140621Z
LAST-MODIFIED:20250916T140621Z
UID:61561-1763568000-1763573400@www.theclassicslibrary.com
SUMMARY:Get Ready to Teach A Level Latin prose: Cicero's pro Roscio Amerino
DESCRIPTION:Wednesday 19th November\, 4-5:30pm\n\n \n\nGet Ready to Teach A Level Latin prose: Cicero’s pro Roscio Amerino with Jaspal Ubhi and Prof. Catherine Steel\n\n \n\nRegistration link: https://forms.office.com/e/xrEWJt8ABS
URL:https://www.theclassicslibrary.com/event/get-ready-to-teach-a-level-latin-prose-ciceros-pro-roscio-amerino/
CATEGORIES:events
ATTACH;FMTTYPE=image/jpeg:https://www.theclassicslibrary.com/wp-content/uploads/2025/09/CA_Webinar_Social_09.jpg
END:VEVENT
BEGIN:VEVENT
DTSTART;TZID=Europe/London:20251119T173000
DTEND;TZID=Europe/London:20251119T183000
DTSTAMP:20260423T221828
CREATED:20251109T143452Z
LAST-MODIFIED:20251109T143452Z
UID:61732-1763573400-1763577000@www.theclassicslibrary.com
SUMMARY:‘The Struggle between Honour\, Expediency\, and Personal Gain: Political Oratory in the Age of Cicero’." by Professor James May\, St Olaf College\, Northfield\, Minnesota\, US
DESCRIPTION:Online Lecture on ‘The Struggle between Honour\, Expediency\, and Personal Gain: Political Oratory in the Age of Cicero’.” by Professor James May\, St Olaf College\, Northfield\, Minnesota\, US\n\nWednesday 19 November\, 5.30\n\n Free event – register here: https://www.ticketsource.co.uk/classics-loughborough-schools-foundation/t-zogdykj
URL:https://www.theclassicslibrary.com/event/the-struggle-between-honour-expediency-and-personal-gain-political-oratory-in-the-age-of-cicero-by-professor-james-may-st-olaf-college-northfield-minnesota-us/
CATEGORIES:events
ATTACH;FMTTYPE=image/jpeg:https://www.theclassicslibrary.com/wp-content/uploads/2025/11/IMG_0040.jpeg
END:VEVENT
BEGIN:VEVENT
DTSTART;TZID=Europe/London:20251119T180000
DTEND;TZID=Europe/London:20251119T193000
DTSTAMP:20260423T221828
CREATED:20251021T144847Z
LAST-MODIFIED:20251021T144847Z
UID:61709-1763575200-1763580600@www.theclassicslibrary.com
SUMMARY:Troy: Story\, Archaeology and Legend: A Hellenic Society & Roman Society Online Course
DESCRIPTION:Lesley Fitton\n \nTroy: story\, archaeology and legend\n \n\nWednesday 19\, 26 November\, 3\, 10 December\, 6pm-7.30pm (UK time)\n\n \n\nThe story of Troy was deeply engrained in ancient Greek culture\, art and thought. It continued to resonate in different ways through subsequent ages\, and still exerts a powerful fascination today. Equally fascinating is the story of the search for Troy\, the rediscovery of the ancient site and the often-dramatic archaeological finds made there. This course will give the opportunity to consider and discuss both the real and the imagined Troy\, and will explore some of the reasons for the enduring power of one of the world’s great stories.\n\n \n\nSessions may be followed live\, or watched afterwards at your own convenience (lectures will be available for up to one month after the final session).\n\n \n\nFor more information and to book:\n\n \n\nhttps://www.hellenicandromanlibrary.org/Events/Event-Registration/EventId/23
URL:https://www.theclassicslibrary.com/event/troy-story-archaeology-and-legend-a-hellenic-society-roman-society-online-course/
CATEGORIES:events
ATTACH;FMTTYPE=image/png:https://www.theclassicslibrary.com/wp-content/uploads/2025/10/sphs-logo.png
END:VEVENT
BEGIN:VEVENT
DTSTART;TZID=Europe/London:20251120T180000
DTEND;TZID=Europe/London:20251120T190000
DTSTAMP:20260423T221828
CREATED:20251021T145455Z
LAST-MODIFIED:20251021T145455Z
UID:61713-1763661600-1763665200@www.theclassicslibrary.com
SUMMARY:Deciphering the Herculaneum papyri (An SPHS Lecture)
DESCRIPTION:Autumn Lecture: Professor Richard Janko\n\n \n\nThursday 20 November\, 6pm\nRoom G7\, Senate House\, London\n\n \nDeciphering the Herculaneum papyri\n \n\nAll welcome. No booking required. This lecture will also be filmed and available to watch on the Hellenic Society YouTube channel.\n\n \nFurther Information
URL:https://www.theclassicslibrary.com/event/deciphering-the-herculaneum-papyri-an-sphs-lecture/
CATEGORIES:events
ATTACH;FMTTYPE=image/png:https://www.theclassicslibrary.com/wp-content/uploads/2025/10/sphs-logo.png
END:VEVENT
BEGIN:VEVENT
DTSTART;TZID=Europe/London:20251121T170000
DTEND;TZID=Europe/London:20251121T203000
DTSTAMP:20260423T221828
CREATED:20250930T141013Z
LAST-MODIFIED:20250930T141013Z
UID:61645-1763744400-1763757000@www.theclassicslibrary.com
SUMMARY:GCSE Latin & Ancient World Olympiad
DESCRIPTION:From Zoe Boland at Tiffin School….\n\n \n\n \n\n \n\nDate: Thursday 21st November 2025\nTime: 5.00pm – 8.30pm\nVenue: Tiffin School\n\n \n\nWe are very excited to announce the launch of our first GCSE Latin & Ancient World Olympiad\, a table-quiz style event designed for Year 10 and 11 students from schools across the country.\n\n \n\nThe quiz will run from 5.00pm until approximately 8.30pm. It will primarily focus on GCSE Latin and language-based skills\, with rounds including grammar and prose comprehension. Alongside these\, there will be bonus and additional questions on ancient history\, mythology\, and literature\, as well as rounds presented in novel ways \, using puzzles\, games\, and a wide range of activities . This will allow students of a wide range of abilities and talents to take part and enjoy the evening.\n\n \n\n\n\n \nKey information\n \n\nTeams must consist of four students in Year 10 and/or Year 11.\n\n \n\nEvery team must be accompanied by a teacher. Teachers will be able to watch some of the quiz but will also be invited to enjoy tea\, coffee\, and use of our staffroom.\n\n \n\nLight refreshments will be available for students between rounds.\n\n \n\nThe entry fee is £10 per team. There will be prizes on offer.\n\n \n\nThe registration deadline is Friday 14th November at 5.00pm.\n\n \n\nAt present\, we are only able to accommodate one team per school\, to keep the hall comfortable and ensure all participants are well accommodated. If you would like to bring a second team\, please email to enquire.\n\n \n\nWe have enabled a waitlist on Eventbrite. If places fill up\, please join the waitlist\, and we will contact you if space becomes available.\n\n \n\nAlthough the quiz is tailored to those studying GCSE Latin\, a broader general knowledge of the ancient world will be an advantage. This is the first time we have run this event\, and we are really looking forward to welcoming as many schools as possible to Tiffin.\n\n \n\nBooking is through Eventbrite by paying the entry fee. Further details will follow closer to the event.\n\n \n\nWe hope you and your students will join us for what promises to be a challenging\, enjoyable\, and sociable evening\, as students test their knowledge\, meet others with similar interests\, and celebrate their enthusiasm for the ancient world.\n\n \n\nKind Regards\,\n\n \n\nZ Boland\nHead of Department
URL:https://www.theclassicslibrary.com/event/gcse-latin-ancient-world-olympiad/
LOCATION:Tiffin School\, Queen Elizabeth Road\, London\, KT2 6RL\, United Kingdom
CATEGORIES:events
ATTACH;FMTTYPE=image/jpeg:https://www.theclassicslibrary.com/wp-content/uploads/2025/09/Tiffin_School.jpg
END:VEVENT
BEGIN:VEVENT
DTSTART;TZID=Europe/London:20251125T093000
DTEND;TZID=Europe/London:20251127T120000
DTSTAMP:20260423T221828
CREATED:20250923T134932Z
LAST-MODIFIED:20250923T135008Z
UID:61615-1764063000-1764244800@www.theclassicslibrary.com
SUMMARY:Hadrian’s Wall Virtual Focus Day (KS2 Virtual Event)
DESCRIPTION:Tuesday 25 NovemberWednesday 26 NovemberThursday 27 November \n\n\n\nFREE Times – 9.30am – 12noon  Further Information and To Book! \n\n\n\nSessions are designed for KS2 students in school\, at home and other settings. \n\n\n\nYou may choose to sign your group up for all sessions or a selection across all three dates. \n\n\n\nJoining information and additional resources will be circulated closer to the date. \n\n\n\nHome learners and children not in a school setting are also welcome to take part. \n\n\n\nPlease note that for Safeguarding\, adults not accompanying a participating child will not be permitted into any of these sessions. \n\n\n\n\n\nJoin Hadrian’s Wall Learning and Engagement Forum* for a day of virtual activities themed around Hadrian’s Wall.  \n\n\n\nTake part in live workshops and discover more about the various sites across the Wall. Each workshop will include downloadable resources to use during the session. \n\n\n\nTuesday 25 November 2025:\n\n\n\n9.30am – 10am –  Counting on Hadrian’s Wall with Richard Marshall from Newcastle University  \n\n\n\nHow did the Romans do maths? Is everything your teachers tell you about Roman numerals wrong? In this interactive session based on cutting edge research at the University of Newcastle\, we’ll find out how the Romans counted and calculated using real ancient textbooks. On the way\, we’ll also be helping out the Emperor Hadrian. Will his thirst for wall-building bankrupt Rome? \n\n\n\n10.10am – 10.40am –  Gods and Goddesses along the Wall with Steph Holton from the Open University \n\n\n\nIn this session we will meet some of the ancient gods and goddesses worshipped along Hadrian’s Wall. Using different types of evidence – including inscriptions\, statues\, and even coins – we will find out more about the gods brought to Britain by the Romans as well as the gods they found here\, and learn how to identify them in the wild! \n\n\n\nThis session is a repeat and updated session from the 2024 focus day\, ”The children thoroughly enjoyed learning about the gods\, goddess and Hadrian’s wall.’‘ \n\n\n\n10.50am – 11.20am – Nick Henderson – information to come \n\n\n\n11.30am – 12noon – Hadrian’s Wall 180 – a time travel experience with Richard from Time Machine Designs \n\n\n\nThis session will take you on a journey along Hadrian’s Wall as it is thought to have appeared in the year 180CE. Time Machine Designs has created the world’s first complete reconstruction of the Hadrian’s Wall system using historical and archaeological research\, 3D modelling software and Microsoft’s Flight Simulator game.  By the end of the session you will have seen Hadrian’s Wall from the air and how it fitted into the landscape\, learned about its turrets\, milecastles\, forts\, villages and harbours and seen whose houses would have been demolished by the Romans! \n\n\n\n~~~~~~~~~~~~~~~~~~~~~~~~~~ \n\n\n\nWednesday 26 November 2025\n\n\n\n9.30am – 10am – Climate vs Archaeology: A Battle for the Past with the Vindolanda Trust \n\n\n\nIn this session\, you will become archaeology detectives as you put climate change under the microscope. In this interactive session\, using the different pieces of evidence that archaeologists have excavated at Roman Vindolanda and Magna Forts\, we will investigate the life of people living along Hadrian’s Wall 2\,000 years ago. But what would happen if none of this evidence was available to us? By the end of the session\, we will understand how climate change is impacting buried archaeology to understand what we might lose in the future. \n\n\n\nDue to it’s success this is a repeat session from our 2024 event. \n\n\n\n10.10am – 10.40am  –  Roots along Hadrian’s Wall with Laura from Classics for All  \n\n\n\nWhy do so many towns and cities end in -caster and -chester? What is the CR in King Charles’ monogram? What does Hadrian’s Wall have to do with the English language? Find out how inscriptions left by soldiers along Hadrian’s Wall can boost your students’ literacy skills and recognition of word roots. This interactive session will gently introduce KS2 students to English etymology and morphology\, unlocking the Latin roots of hundreds of English words and boosting their linguistic skill set. \n\n\n\n10.50am – 11.20am – Dark Skies Through Roman Eyes with Northumberland National Park  \n\n\n\nNorthumberland National Park is home to the darkest skies in England – officially the best place to see stars\, planets\, meteor showers\, and the northern lights. But what did the Romans see when they looked up at the night sky? In this interactive session\, pupils will find out how important the stars and planets were to the Romans\, and how their special connection to the night sky has influenced modern day astronomers. \n\n\n\nThis session is a repeat and updated session from our 2023 focus day. \n\n\n\n11.30am – 12noon– Roman life at the opposite ends of Roman Britain with Helen from English Heritage Find out more about the site of the Roman invasion of Britain at Richborough\, which saw the prime of Roman occupation and compare it with one of the largest forts on the Northern edge of the empire. Explore who lived there\, what did they do and what was life like for them through an interactive session and decide where would you have preferred to be. \n\n\n\n~~~~~~~~~~~~~~~~~~~~~~~~~~ \n\n\n\nThursday 27 November 2025\n\n\n\n9.30am – 10am – Colour by Science: What can the scientific archaeology teach us about Hadrian’s Wall?  with Jo and Andrew from the Great North Museum: Hancock \n\n\n\nDid you know that archaeologists use science as well as history skills? Find out how scientific techniques can be used to learn about an object’s history. Compare Hadrian’s Wall to another Roman wall (did you know there were others?!) and use your new-found skills to decide how much we can learn about Hadrian’s Wall from another Roman wall. \n\n\n\nThis session is a repeat and updated session from 2024 focus day\, ”I enjoyed learning about the different colours of Roman Britain”  \n\n\n\n10.10am – 10.40am  – Bathing at the Frontier with Susan and Kirsty from Segedunum Roman Fort  \n\n\n\nBathhouses were an important part of Roman Identity and were present throughout the Roman Empire\, even at Hadrian’s Wall.  Join us at Segedunum\, Hadrian’s Walls most easterly fort to look at the remains we have here\, what bathhouses were like\, and why they were such an important part of Roman Life! \n\n\n\n10.50am – 11.20am – Rollin’ with the Romans: Entertainment on The Wall with Liana from Tullie \n\n\n\nThey liked to battle\, bathe and build… but what did the Roman soldiers on the wall do for fun? Join Tullie (and a very jolly Roman Soldier) for an exciting time-travelling adventure\, using artefacts from our collections (and some silliness!) to learn about thedifferent ways the Romans entertained themselves. During this interactive session your class will share ideas in the chat\, answer polls\, meet some lively characters\, act along\, examine real artefacts\, and finally get their pencils out for some creative worksheet fun! \n\n\n\nThis session is a repeat and updated session from 2024 focus day\, ”Rolling with the Romans was very interactive and child friendly.‘‘  \n\n\n\n11.30am – 12noon – Hadrian’s Wall – We have your back with Helen and Mark from Binchester Roman Fort\, supported by Equistry re-enactment group. \n\n\n\nBinchester Roman Fort was built in County Durham around 75AD and was one of the largest Roman Forts in the whole of northern Britain. The Fort housed 2000 soldiers\, including a cavalry regiment of 600 horses. \n\n\n\nPrior to Hadrian’s Wall\, Binchester was a key element in the conquest and overall defence strategy of the northern frontier.  Once the Wall was established\, whilst not directly on Hadrian’s Wall itself\, it played a major support role to the Wall – it was crucial for communications\, troop movement and supply lines. \n\n\n\nBy watching several video clips of re-enactors\, you can learn about what life was like for the cavalry soldiers and auxiliary soldiers living at Binchester.  Find out about the roles they played in supporting Hadrian’s Wall and protecting Dere street\, the main road north from York towards Hadrian’s Wall and beyond. \n\n\n\n~~~~~~~~~~~~~~~~~~~~~~~~~~~~~~~~~~~~~~~~~~ \n\n\n\nPlease note that this Virtual Hadrian’s Wall Day is open for multiple schools and/or home learners to book. We will instruct all participants to turn cameras and microphones off during the sessions. \n\n\n\n*Hadrian’s Wall Learning and Engagement Forum are a group of museum and heritage education and outreach professionals based on the sites found across Hadrian’s Wall.  
URL:https://www.theclassicslibrary.com/event/hadrians-wall-virtual-focus-day-ks2-virtual-event/
CATEGORIES:events
ATTACH;FMTTYPE=image/jpeg:https://www.theclassicslibrary.com/wp-content/uploads/2025/09/great-north-museum.jpg
END:VEVENT
BEGIN:VEVENT
DTSTART;TZID=Europe/London:20251126T160000
DTEND;TZID=Europe/London:20251126T173000
DTSTAMP:20260423T221828
CREATED:20250916T140731Z
LAST-MODIFIED:20250916T140755Z
UID:61564-1764172800-1764178200@www.theclassicslibrary.com
SUMMARY:Get Ready to Teach A Level Latin verse: Virgil's Aeneid
DESCRIPTION:Wednesday 26th November\, 4-5:30pm. Get Ready to Teach A Level Latin verse: Virgil’s Aeneid with Katharine Radice and Dr. Fiachra Mac Góráin \n\n\n\nRegistration link: https://forms.office.com/e/0jkg6vK5PF
URL:https://www.theclassicslibrary.com/event/get-ready-to-teach-a-level-latin-verse-virgils-aeneid/
CATEGORIES:events
ATTACH;FMTTYPE=image/jpeg:https://www.theclassicslibrary.com/wp-content/uploads/2025/09/CA_Webinar_Social_07.jpg
END:VEVENT
END:VCALENDAR