BEGIN:VCALENDAR
VERSION:2.0
PRODID:-//The Classics Library - ECPv6.15.20//NONSGML v1.0//EN
CALSCALE:GREGORIAN
METHOD:PUBLISH
X-WR-CALNAME:The Classics Library
X-ORIGINAL-URL:https://www.theclassicslibrary.com
X-WR-CALDESC:Events for The Classics Library
REFRESH-INTERVAL;VALUE=DURATION:PT1H
X-Robots-Tag:noindex
X-PUBLISHED-TTL:PT1H
BEGIN:VTIMEZONE
TZID:Europe/London
BEGIN:DAYLIGHT
TZOFFSETFROM:+0000
TZOFFSETTO:+0100
TZNAME:BST
DTSTART:20250330T010000
END:DAYLIGHT
BEGIN:STANDARD
TZOFFSETFROM:+0100
TZOFFSETTO:+0000
TZNAME:GMT
DTSTART:20251026T010000
END:STANDARD
BEGIN:DAYLIGHT
TZOFFSETFROM:+0000
TZOFFSETTO:+0100
TZNAME:BST
DTSTART:20260329T010000
END:DAYLIGHT
BEGIN:STANDARD
TZOFFSETFROM:+0100
TZOFFSETTO:+0000
TZNAME:GMT
DTSTART:20261025T010000
END:STANDARD
BEGIN:DAYLIGHT
TZOFFSETFROM:+0000
TZOFFSETTO:+0100
TZNAME:BST
DTSTART:20270328T010000
END:DAYLIGHT
BEGIN:STANDARD
TZOFFSETFROM:+0100
TZOFFSETTO:+0000
TZNAME:GMT
DTSTART:20271031T010000
END:STANDARD
END:VTIMEZONE
BEGIN:VEVENT
DTSTART;VALUE=DATE:20260114
DTEND;VALUE=DATE:20260212
DTSTAMP:20260423T222009
CREATED:20260102T145417Z
LAST-MODIFIED:20260102T145417Z
UID:61898-1768348800-1770854399@www.theclassicslibrary.com
SUMMARY:'The Idea of Decline: Make Rome Great Again?' An Online Course
DESCRIPTION:Registration for our next online course\, with Professor Bruce Gibson\, The Idea of Decline: Make Rome Great Again? is now open here:\n\n \n\nhttps://www.hellenicandromanlibrary.org/Events/Event-Registration/EventId/24\n\n \n\nWednesday 14\, 21\, 28 January\, 4\, 11 February\,  6-7.30pm (UK time)\nWatch the sessions live\, or catch up by watching the recordings later at your own convenience.\n\n \n\nThis online course looks at the idea of decline\, both in the ancient world and in later periods. Decline as a concept emerges as something which is deeply rooted and even something which is paradoxically appealing and convenient as an idea\, often exploited by those seeking to advance political or social agendas.\n\n \n\nSession 1 – 14 January:\nIntroduction: Ancient Perspectives on Political Decline\n\n \n\nThis session briefly introduces the idea of decline as something whose resonances continue to echo right down to the present day. The main focus of the session will be on ancient approaches to political decline. Authors considered during the session will include Herodotus\, Xenophon\, Polybius and Tacitus.\n\n \n\nSession 2 – 21 January:\nDecline and Moral Criticism: Writing Decline\n\n \n\nThe second session will turn to ideas of moral decline in the ancient world. Moral decline is sometimes simply observed\, but on occasions it is an idea that can be exploited for other purposes. Authors who will be considered during this session include Hesiod\, Thucydides\, Sallust and Lucan.\n\n \n\nSession 3 – 28 January:\nLooking at the fall of the Roman empire\n\n \n\nThis session will look at ancient responses to events of the fourth and fifth centuries that are often referred to as the fall of the Roman empire. The main focus will be on seeing the representation of change and decline.\n\n \n\nSession 4 – 4 February:\nThe irresistible lure of decline\n\n \n\nThis session turns to the reception of ancient decline in later periods and will include consideration of Gibbon’s highly influential approach to the Decline and Fall of the Roman Empire.\n\n \n\nSession 5 – 11 February:\nThe rhetoric of decline in contemporary society\n\n \n\nThe final session of the course looks at the resonance of decline as a concept in current political and social discourse. Ancient decline is frequently evoked and exploited in such contexts. More broadly\, the idea of decline can be a powerful rhetorical weapon which can be used to advance political agendas.
URL:https://www.theclassicslibrary.com/event/the-idea-of-decline-make-rome-great-again-an-online-course/
CATEGORIES:events
ATTACH;FMTTYPE=image/png:https://www.theclassicslibrary.com/wp-content/uploads/2025/10/sphs-logo.png
END:VEVENT
BEGIN:VEVENT
DTSTART;VALUE=DATE:20260131
DTEND;VALUE=DATE:20260223
DTSTAMP:20260423T222009
CREATED:20260131T151240Z
LAST-MODIFIED:20260131T151240Z
UID:62035-1769817600-1771804799@www.theclassicslibrary.com
SUMMARY:The Ophiolite
DESCRIPTION:Theatro Technis and London Play Productions\n\n \n\nRun ends 22nd February\n\n \nMore information\n \n\nA new play by Philip de Voni set in Cyprus and England.\nDirected by Kerry Kyriacos Michael MBE\n\n \n\nWhen her beloved father dies\, young Penelope clings to the past while his widow pushes to move on. Like the Greek heroines defending sacred traditions of old\, she must decide where the battle lines are drawn. As the bereaved gather\, grief ignites a territorial war over the deceased\, which then engulfs the soul of the family itself. Ancient grudges fume\, primal bonds are torched and\, like molten rock surging through fault lines in the Earth’s crust\, the deepest injuries are finally forced into the open. Will conflict separate the family from its history and alienate bloodlines forever? In a house divided\, will love survive — and will anyone survive love?\n\n \n\nThis is a new contemporary play by Philip de Voni set in Cyprus and England. Directed by Kerry Kyriacos Michael MBE\, the Creative Director of London’s Theatro Technis\, and Olivier and UK Theatre Award-winner.\n\n \n\nThere will be a post-show discussion with members of the cast and creative teams on February 12.
URL:https://www.theclassicslibrary.com/event/the-ophiolite/
CATEGORIES:events
ATTACH;FMTTYPE=image/png:https://www.theclassicslibrary.com/wp-content/uploads/2026/01/Screenshot-2026-01-31-at-15.09.43.png
END:VEVENT
BEGIN:VEVENT
DTSTART;TZID=Europe/London:20260202T140000
DTEND;TZID=Europe/London:20260202T170000
DTSTAMP:20260423T222009
CREATED:20260113T153758Z
LAST-MODIFIED:20260113T153758Z
UID:61921-1770040800-1770051600@www.theclassicslibrary.com
SUMMARY:GCSE Latin Conference\, Guildford Classical Association
DESCRIPTION:Guildford Classical Association GCSE Latin Conference on the afternoon of Monday 2nd February 2.00pm – 4.45pm. The event will be held at Lord Wandsworth College near Hook in Hampshire\, RG29 1TB.\n\n \n\nWe are very privileged to have both Professor Llewelyn Morgan and Dr Ed Bispham of Brasenose College Oxford as our speakers this year. Professor Morgan will be speaking on the verse set text of Ovid’s Baucis and Philemon and the Catullus poems. Dr Bispham will be speaking on Tacitus’ Messalina. Tea will be served between the two talks.\n\n \n\nThere will also be the option of staying for about half an hour after the talks have finished as our speakers have kindly agreed to a Q&A session with our audience on Classics beyond GCSE\, Classics at Oxford\, and questions on Classics / Latin more generally. I would envisage this finishing by 5.00pm at the latest.\n\n \n\nIf you would like to attend the GCSE Conference\, or part of it\, could you please complete the following form by Monday 26th January or email hamiltona@lordwandsworth.org
URL:https://www.theclassicslibrary.com/event/gcse-latin-conference-guildford-classical-association/
LOCATION:Lord Wandsworth College\, Long Sutton\, Hook\, RG29 1TB\, United Kingdom
CATEGORIES:events
ATTACH;FMTTYPE=image/png:https://www.theclassicslibrary.com/wp-content/uploads/2026/01/GCSE-Latin-Conference-poster.png
END:VEVENT
BEGIN:VEVENT
DTSTART;TZID=Europe/London:20260204T140000
DTEND;TZID=Europe/London:20260204T170000
DTSTAMP:20260423T222009
CREATED:20251206T142834Z
LAST-MODIFIED:20251206T142834Z
UID:61833-1770213600-1770224400@www.theclassicslibrary.com
SUMMARY:EMACT Latin and Greek Reading Competition 2026
DESCRIPTION:The EMACT Latin and Greek Reading Competition 2026 will be held on Wednesday 4th February 2026 at 2.00pm at Nottingham Girls’ High School. \nThere is no charge for entering the competition – registration closes on Friday 30 January. The registration form and all details are on the website. https://emact.wordpress.com/2025/09/28/emact-latin-and-greek-reading-competition-2026/
URL:https://www.theclassicslibrary.com/event/emact-latin-and-greek-reading-competition-2026/
LOCATION:Nottingham Girls’ High School\, 9 Arboretum Street\, Nottingham\, NG1 4JB\, United Kingdom
CATEGORIES:events
ATTACH;FMTTYPE=image/jpeg:https://www.theclassicslibrary.com/wp-content/uploads/2022/11/emact.jpeg
END:VEVENT
END:VCALENDAR